BEGIN:VCALENDAR
VERSION:2.0
PRODID:icalendar-ruby
CALSCALE:GREGORIAN
METHOD:PUBLISH
BEGIN:VEVENT
DTSTAMP:20260424T152615Z
UID:141-758@aachurch.ca
DTSTART:20260510T160000Z
DTEND:20260510T173000Z
CLASS:PUBLIC
CREATED:20260423T150749
DESCRIPTION:With Love.This Mother’s Day\, we’re exploring the quiet\, p
 owerful language of love expressed through prayer.\nScripture tells us tha
 t “the prayer of a righteous person is powerful and effective” (James 
 5:16)\, but that kind of prayer isn’t always loud or polished. Sometimes
 \, it looks like tears. Sometimes\, it looks like silent surrender. Someti
 mes\, it simply looks like love poured out.\nIn Psalm 56:8\, we are remind
 ed that God sees and holds every tear—each one known\, each one remember
 ed. And in the story of the woman who came to Jesus\, washing His feet wit
 h her tears and anointing them with perfume\, we see a picture of love tha
 t is honest\, vulnerable\, and deeply powerful.\nThis message is an invita
 tion to rediscover prayer—not just as words we say\, but as love we offe
 r. A love that God receives\, remembers\, and responds to.\nJoin us this M
 other’s Day as we reflect on the power of a life—and a prayer—offere
 d with love.
LAST-MODIFIED:20260423T150749
LOCATION:
SUMMARY:With Love
URL;VALUE=URI:https://www.aachurch.ca/events/with-love/2026-05-10
ATTACH;FILENAME=Mothers-Day-Poster.jpg;FMTTYPE=image/jpeg:https://dq5pwpg1q
 8ru0.cloudfront.net/2026/04/23/21/06/51/9e927dce-f1fd-479d-ad21-f318d61d61
 89/Mothers-Day-Poster.jpg
END:VEVENT
END:VCALENDAR
